BEGIN:VCALENDAR
CALSCALE:GREGORIAN
METHOD:PUBLISH
VERSION:2.0
PRODID:-//iCalWriter OpenSource Project//iCalWriter 0.8.1//EN
BEGIN:VEVENT
DTSTAMP:20260419T184850Z
UID:1776624530EDJZ@sozialestadt.laatzen.de
DTSTART:20211029T140000
DTEND:20211029T170000
SUMMARY:Workshop „Bau eines Insektenhotels“
DESCRIPTION:In einem weiteren Eltern-/Großeltern-Kind-Workshop möchten wir uns mit dem Bau eines Insektenhotels beschäftigen und erklären warum Insekten für unsere Natur so wichtige Helfer sind und wie wir sie bei der Wohnungssuche unterstützen können.
Der Workshop findet im Rahmen des Projekts Natur verbindet im Interkulturellen Garten in der Flemmingstraße statt und wird vom Bundesprogramm Demokratie leben! gefördert. Anmeldungen an stadtteilbuero(at)laatzen.de oder hetmeier(at)googlemail.de.
LOCATION:Interkultureller Garten 30880 Laatzen
CATEGORIES:Familien und Kinder,Natur,Workshop
URL:https://sozialestadt.laatzen.de/de/veranstaltungsdetail-laatzen-mitte/event/137791,1191/workshop-bau-eines-insektenhotels-29-10-2021.html
ATTACH:https://sozialestadt.laatzen.de/de/datei/anzeigen/id/137792,1191/insect_hotel_ga14aecbf8_1920.jpg
END:VEVENT
END:VCALENDAR
